BEGIN:VCALENDAR
VERSION:2.0
PRODID:-//Malves-en-Minervois - ECPv6.15.20//NONSGML v1.0//EN
CALSCALE:GREGORIAN
METHOD:PUBLISH
X-WR-CALNAME:Malves-en-Minervois
X-ORIGINAL-URL:https://www.malvesenminervois.fr
X-WR-CALDESC:Évènements pour Malves-en-Minervois
REFRESH-INTERVAL;VALUE=DURATION:PT1H
X-Robots-Tag:noindex
X-PUBLISHED-TTL:PT1H
BEGIN:VTIMEZONE
TZID:Europe/Paris
BEGIN:DAYLIGHT
TZOFFSETFROM:+0100
TZOFFSETTO:+0200
TZNAME:CEST
DTSTART:20250330T010000
END:DAYLIGHT
BEGIN:STANDARD
TZOFFSETFROM:+0200
TZOFFSETTO:+0100
TZNAME:CET
DTSTART:20251026T010000
END:STANDARD
BEGIN:DAYLIGHT
TZOFFSETFROM:+0100
TZOFFSETTO:+0200
TZNAME:CEST
DTSTART:20260329T010000
END:DAYLIGHT
BEGIN:STANDARD
TZOFFSETFROM:+0200
TZOFFSETTO:+0100
TZNAME:CET
DTSTART:20261025T010000
END:STANDARD
BEGIN:DAYLIGHT
TZOFFSETFROM:+0100
TZOFFSETTO:+0200
TZNAME:CEST
DTSTART:20270328T010000
END:DAYLIGHT
BEGIN:STANDARD
TZOFFSETFROM:+0200
TZOFFSETTO:+0100
TZNAME:CET
DTSTART:20271031T010000
END:STANDARD
END:VTIMEZONE
BEGIN:VEVENT
DTSTART;TZID=Europe/Paris:20260426T000000
DTEND;TZID=Europe/Paris:20260426T235959
DTSTAMP:20260422T132153
CREATED:20260417T150049Z
LAST-MODIFIED:20260417T150528Z
UID:558-1777161600-1777247999@www.malvesenminervois.fr
SUMMARY:Loto de Pâques - Les Z'amis de Malves
DESCRIPTION:L’association Les Z’Amis de Malves vous donne rendez-vous pour un moment convivial à l’occasion du Loto de Pâques\, le dimanche 26 avril à 15h\, au foyer communal (ouverture des portes à 13h30). \n\n\n\nDe nombreux lots sont à gagner tout au long de l’après-midi\, avec notamment : \n\n\n\n\nJambons de pays\n\n\n\nColis de la fermière\n\n\n\nAssortiments de charcuterie\n\n\n\nCaissettes de viande\n\n\n\nPlusieurs livrets d’une valeur allant de 120 € à 200 €\n\n\n\n\nUn loto enfants (-15 ans) est également prévu\, permettant aux plus jeunes de participer dans une ambiance adaptée. \n\n\n\nLa journée sera rythmée par plusieurs séries\, une tombola ainsi qu’un entracte. Sur place\, une buvette et des gourmandises seront proposées. \n\n\n\nTarif : 10 € la planche de 3 cartons \n\n\n\nLes quines doubles seront honorées. \n\n\n\nUn rendez-vous festif et intergénérationnel à ne pas manquer pour célébrer Pâques dans la convivialité. Les détails sont disponibles ici
URL:https://www.malvesenminervois.fr/event/loto-de-paques-les-zamis-de-malves/
LOCATION:foyer communal\, 11600\, France
CATEGORIES:association,loto,paques
END:VEVENT
BEGIN:VEVENT
DTSTART;TZID=Europe/Paris:20260502T000000
DTEND;TZID=Europe/Paris:20260502T235959
DTSTAMP:20260422T132153
CREATED:20260417T150451Z
LAST-MODIFIED:20260417T150451Z
UID:565-1777680000-1777766399@www.malvesenminervois.fr
SUMMARY:Matinée découverte de la pêche
DESCRIPTION:Une matinée découverte de pêche est organisée à destination des enfants\, le samedi 2 Mai\, à Villegly ! \nCet événement\, ouvert aux enfants jusqu’à 12 ans\, permettra de s’initier à la pêche dans un cadre encadré et convivial. Un lâcher de poissons blancs est prévu pour l’occasion afin de faciliter la découverte de l’activité. \nLa carte de pêche découverte est offerte pour les moins de 12 ans. \n Lieu : Lac de Villegly\n Horaire : à partir de 9h \n Renseignements :\nBernard Molveau – 06 50 37 07 20
URL:https://www.malvesenminervois.fr/event/matinee-decouverte-de-la-peche/
LOCATION:villegly
CATEGORIES:peche
END:VEVENT
BEGIN:VEVENT
DTSTART;TZID=Europe/Paris:20260508T110000
DTEND;TZID=Europe/Paris:20260508T130000
DTSTAMP:20260422T132153
CREATED:20260416T094325Z
LAST-MODIFIED:20260417T150211Z
UID:535-1778238000-1778245200@www.malvesenminervois.fr
SUMMARY:Commémoration du 8 mai 1945
DESCRIPTION:La municipalité de Malves-en-Minervois vous invite à participer à la cérémonie de commémoration de l’armistice du 8 mai 1945. \nProgramme : \n\n11h : défilé\, départ devant l’école Pierre Perret\nDépôt de gerbe au monument aux morts\n\nÀ l’issue de la cérémonie\, un moment convivial sera proposé avec un apéritif au foyer. \nNous vous attendons nombreux pour ce temps de mémoire et de rassemblement.
URL:https://www.malvesenminervois.fr/event/commemoration-du-8-mai-1945/
END:VEVENT
BEGIN:VEVENT
DTSTART;TZID=Europe/Paris:20260524T000000
DTEND;TZID=Europe/Paris:20260524T235959
DTSTAMP:20260422T132153
CREATED:20260421T081106Z
LAST-MODIFIED:20260421T081106Z
UID:591-1779580800-1779667199@www.malvesenminervois.fr
SUMMARY:Kermesse 2026
DESCRIPTION:L’association Les 11600 Volts vous donne rendez-vous pour un moment festif et convivial au cœur du village. \nDate: Dimanche 24 mai 2026\nLieu: Parc du Château de Malves \nVenez nombreux\, au parc pour un bon moment ensemble ! \nUne belle occasion de se retrouver\, de partager et de profiter d’une journée animée pour petits et grands.
URL:https://www.malvesenminervois.fr/event/kermesse-2026/
LOCATION:Parc du Chateau
CATEGORIES:association,kermesse
END:VEVENT
END:VCALENDAR